BEGIN:VCALENDAR
VERSION:2.0
PRODID:-//eventon.com NONSGML v1.0//EN
CALSCALE:GREGORIAN
METHOD:PUBLISH
BEGIN:VEVENT
UID:69e9f9a0eaa4c
DTSTAMP:20260423T105112Z
DTSTART:20240302
DTEND:20240303
LOCATION:
SUMMARY:Champagne Service
DESCRIPTION:Champagne Service\nhttps://rougeclubs.com/events/champagne-serv
 ice/var/ri-214.l-L1
URL:https://rougeclubs.com/events/champagne-service/var/ri-214.l-L1
END:VEVENT
END:VCALENDAR