BEGIN:VCALENDAR
VERSION:2.0
PRODID:-//eventon.com NONSGML v1.0//EN
CALSCALE:GREGORIAN
METHOD:PUBLISH
BEGIN:VEVENT
UID:69e5edcc5af3d
DTSTAMP:20260420T091140Z
DTSTART:20251230
DTEND:20251231
LOCATION:
SUMMARY:Half off Grey Goose Drinks Tuesdays
DESCRIPTION:Half off Grey Goose Drinks Tuesdays\nhttps://rougeclubs.com/eve
 nts/grey-goose-tuesdays/var/ri-130.l-L1
URL:https://rougeclubs.com/events/grey-goose-tuesdays/var/ri-130.l-L1
END:VEVENT
END:VCALENDAR