BEGIN:VCALENDAR
VERSION:2.0
PRODID:-//eventon.com NONSGML v1.0//EN
CALSCALE:GREGORIAN
METHOD:PUBLISH
BEGIN:VEVENT
UID:69e4ecab1ae8d
DTSTAMP:20260419T145435Z
DTSTART:20260609
DTEND:20260610
LOCATION:
SUMMARY:Half off Grey Goose Drinks Tuesdays
DESCRIPTION:Half off Grey Goose Drinks Tuesdays\nhttps://rougeclubs.com/eve
 nts/grey-goose-tuesdays/var/ri-153.l-L1
URL:https://rougeclubs.com/events/grey-goose-tuesdays/var/ri-153.l-L1
END:VEVENT
END:VCALENDAR