BEGIN:VCALENDAR
VERSION:2.0
PRODID:-//eventon.com NONSGML v1.0//EN
CALSCALE:GREGORIAN
METHOD:PUBLISH
BEGIN:VEVENT
UID:69e9e555ed972
DTSTAMP:20260423T092437Z
DTSTART:20260623
DTEND:20260624
LOCATION:
SUMMARY:Half off Grey Goose Drinks Tuesdays
DESCRIPTION:Half off Grey Goose Drinks Tuesdays\nhttps://rougeclubs.com/eve
 nts/grey-goose-tuesdays/var/ri-155.l-L1
URL:https://rougeclubs.com/events/grey-goose-tuesdays/var/ri-155.l-L1
END:VEVENT
END:VCALENDAR