BEGIN:VCALENDAR
VERSION:2.0
PRODID:-//eventon.com NONSGML v1.0//EN
CALSCALE:GREGORIAN
METHOD:PUBLISH
BEGIN:VEVENT
UID:69eb40b08b03e
DTSTAMP:20260424T100640Z
DTSTART:20230905
DTEND:20230906
LOCATION:
SUMMARY:Half off Grey Goose Drinks Tuesdays
DESCRIPTION:Half off Grey Goose Drinks Tuesdays\nhttps://rougeclubs.com/eve
 nts/grey-goose-tuesdays/var/ri-9.l-L1
URL:https://rougeclubs.com/events/grey-goose-tuesdays/var/ri-9.l-L1
END:VEVENT
END:VCALENDAR