BEGIN:VCALENDAR
VERSION:2.0
PRODID:-//eventon.com NONSGML v1.0//EN
CALSCALE:GREGORIAN
METHOD:PUBLISH
BEGIN:VEVENT
UID:69e734a404091
DTSTAMP:20260421T082612Z
DTSTART:20230125T083400Z
DTEND:20230416T065900Z
LOCATION:
SUMMARY:Day Shift - Now Auditioning
DESCRIPTION:Dayshift starts Tuesday March14th at 11am Now Auditioning!\nhtt
 ps://rougeclubs.com/events/day-shift-now-auditioning/
URL:https://rougeclubs.com/events/day-shift-now-auditioning/
END:VEVENT
END:VCALENDAR