BEGIN:VCALENDAR
VERSION:2.0
PRODID:-//eventon.com NONSGML v1.0//EN
CALSCALE:GREGORIAN
METHOD:PUBLISH
BEGIN:VEVENT
UID:69e95ea95ec1a
DTSTAMP:20260422T235001Z
DTSTART:20231123
DTEND:20231124
LOCATION:
SUMMARY:FREE Thanksgiving Dinner!
DESCRIPTION:FREE Dinner!\nhttps://rougeclubs.com/events/free-thanksgiving-d
 inner-2/
URL:https://rougeclubs.com/events/free-thanksgiving-dinner-2/
END:VEVENT
END:VCALENDAR