BEGIN:VCALENDAR
VERSION:2.0
PRODID:-//eventon.com NONSGML v1.0//EN
CALSCALE:GREGORIAN
METHOD:PUBLISH
BEGIN:VEVENT
UID:69e6032e02163
DTSTAMP:20260420T104254Z
DTSTART:20231222T050000Z
DTEND:20231222T070000Z
LOCATION:Portland 403 SW Harvey Milk St
SUMMARY:White Elephant Party
DESCRIPTION:$20 min Gift\nhttps://rougeclubs.com/events/white-elephant-part
 y/
URL:https://rougeclubs.com/events/white-elephant-party/
END:VEVENT
END:VCALENDAR