BEGIN:VCALENDAR
VERSION:2.0
PRODID:-//eventon.com NONSGML v1.0//EN
CALSCALE:GREGORIAN
METHOD:PUBLISH
BEGIN:VEVENT
UID:69e6088058967
DTSTAMP:20260420T110536Z
DTSTART:20240214
DTEND:20240215
LOCATION:Beaverton 8687 SW Hall Blvd
SUMMARY:Valentine's Day
DESCRIPTION:Valentine's Day\nhttps://rougeclubs.com/events/valentines-day/
URL:https://rougeclubs.com/events/valentines-day/
END:VEVENT
END:VCALENDAR