BEGIN:VCALENDAR
VERSION:2.0
PRODID:-//eventon.com NONSGML v1.0//EN
CALSCALE:GREGORIAN
METHOD:PUBLISH
BEGIN:VEVENT
UID:69e9f5e97c812
DTSTAMP:20260423T103521Z
DTSTART:20240220
DTEND:20240221
LOCATION:
SUMMARY:Now Auditioning
DESCRIPTION:Now Auditioning\nhttps://rougeclubs.com/events/now-auditioning/
URL:https://rougeclubs.com/events/now-auditioning/
END:VEVENT
END:VCALENDAR