BEGIN:VCALENDAR
VERSION:2.0
PRODID:-//eventon.com NONSGML v1.0//EN
CALSCALE:GREGORIAN
METHOD:PUBLISH
BEGIN:VEVENT
UID:69e5ec655e1ad
DTSTAMP:20260420T090541Z
DTSTART:20260206
DTEND:20260207
LOCATION:
SUMMARY:Now Auditioning
DESCRIPTION:Now Auditioning\nhttps://rougeclubs.com/events/now-auditioning/
 var/ri-717.l-L1
URL:https://rougeclubs.com/events/now-auditioning/var/ri-717.l-L1
END:VEVENT
END:VCALENDAR