BEGIN:VCALENDAR
VERSION:2.0
PRODID:-//eventon.com NONSGML v1.0//EN
CALSCALE:GREGORIAN
METHOD:PUBLISH
BEGIN:VEVENT
UID:69e5f2e708a60
DTSTAMP:20260420T093327Z
DTSTART:20260216
DTEND:20260217
LOCATION:
SUMMARY:Now Auditioning
DESCRIPTION:Now Auditioning\nhttps://rougeclubs.com/events/now-auditioning/
 var/ri-727.l-L1
URL:https://rougeclubs.com/events/now-auditioning/var/ri-727.l-L1
END:VEVENT
END:VCALENDAR