BEGIN:VCALENDAR
VERSION:2.0
PRODID:-//eventon.com NONSGML v1.0//EN
CALSCALE:GREGORIAN
METHOD:PUBLISH
BEGIN:VEVENT
UID:69e5f00e72724
DTSTAMP:20260420T092118Z
DTSTART:20260218
DTEND:20260219
LOCATION:
SUMMARY:Now Auditioning
DESCRIPTION:Now Auditioning\nhttps://rougeclubs.com/events/now-auditioning/
 var/ri-729.l-L1
URL:https://rougeclubs.com/events/now-auditioning/var/ri-729.l-L1
END:VEVENT
END:VCALENDAR