BEGIN:VCALENDAR
VERSION:2.0
PRODID:-//eventon.com NONSGML v1.0//EN
CALSCALE:GREGORIAN
METHOD:PUBLISH
BEGIN:VEVENT
UID:69e4d758dd85a
DTSTAMP:20260419T132336Z
DTSTART:20260404
DTEND:20260405
LOCATION:
SUMMARY:Now Auditioning
DESCRIPTION:Now Auditioning\nhttps://rougeclubs.com/events/now-auditioning/
 var/ri-774.l-L1
URL:https://rougeclubs.com/events/now-auditioning/var/ri-774.l-L1
END:VEVENT
END:VCALENDAR