BEGIN:VCALENDAR
VERSION:2.0
PRODID:-//eventon.com NONSGML v1.0//EN
CALSCALE:GREGORIAN
METHOD:PUBLISH
BEGIN:VEVENT
UID:69e5eb27a90b2
DTSTAMP:20260420T090023Z
DTSTART:20260409
DTEND:20260410
LOCATION:
SUMMARY:Now Auditioning
DESCRIPTION:Now Auditioning\nhttps://rougeclubs.com/events/now-auditioning/
 var/ri-779.l-L1
URL:https://rougeclubs.com/events/now-auditioning/var/ri-779.l-L1
END:VEVENT
END:VCALENDAR