BEGIN:VCALENDAR
VERSION:2.0
PRODID:-//eventon.com NONSGML v1.0//EN
CALSCALE:GREGORIAN
METHOD:PUBLISH
BEGIN:VEVENT
UID:69e5ee10316a5
DTSTAMP:20260420T091248Z
DTSTART:20260410
DTEND:20260411
LOCATION:
SUMMARY:Now Auditioning
DESCRIPTION:Now Auditioning\nhttps://rougeclubs.com/events/now-auditioning/
 var/ri-780.l-L1
URL:https://rougeclubs.com/events/now-auditioning/var/ri-780.l-L1
END:VEVENT
END:VCALENDAR