BEGIN:VCALENDAR
VERSION:2.0
PRODID:-//eventon.com NONSGML v1.0//EN
CALSCALE:GREGORIAN
METHOD:PUBLISH
BEGIN:VEVENT
UID:69e9e4e4e7295
DTSTAMP:20260423T092244Z
DTSTART:20260522
DTEND:20260523
LOCATION:
SUMMARY:Now Auditioning
DESCRIPTION:Now Auditioning\nhttps://rougeclubs.com/events/now-auditioning/
 var/ri-822.l-L1
URL:https://rougeclubs.com/events/now-auditioning/var/ri-822.l-L1
END:VEVENT
END:VCALENDAR