BEGIN:VCALENDAR
VERSION:2.0
PRODID:-//eventon.com NONSGML v1.0//EN
CALSCALE:GREGORIAN
METHOD:PUBLISH
BEGIN:VEVENT
UID:69e5f0ea4a167
DTSTAMP:20260420T092458Z
DTSTART:20260525
DTEND:20260526
LOCATION:
SUMMARY:Now Auditioning
DESCRIPTION:Now Auditioning\nhttps://rougeclubs.com/events/now-auditioning/
 var/ri-825.l-L1
URL:https://rougeclubs.com/events/now-auditioning/var/ri-825.l-L1
END:VEVENT
END:VCALENDAR