BEGIN:VCALENDAR
VERSION:2.0
PRODID:-//eventon.com NONSGML v1.0//EN
CALSCALE:GREGORIAN
METHOD:PUBLISH
BEGIN:VEVENT
UID:69e5f3356e249
DTSTAMP:20260420T093445Z
DTSTART:20260604
DTEND:20260605
LOCATION:
SUMMARY:Now Auditioning
DESCRIPTION:Now Auditioning\nhttps://rougeclubs.com/events/now-auditioning/
 var/ri-835.l-L1
URL:https://rougeclubs.com/events/now-auditioning/var/ri-835.l-L1
END:VEVENT
END:VCALENDAR