BEGIN:VCALENDAR
VERSION:2.0
PRODID:-//eventon.com NONSGML v1.0//EN
CALSCALE:GREGORIAN
METHOD:PUBLISH
BEGIN:VEVENT
UID:69e5f04d925e6
DTSTAMP:20260420T092221Z
DTSTART:20260609
DTEND:20260610
LOCATION:
SUMMARY:Now Auditioning
DESCRIPTION:Now Auditioning\nhttps://rougeclubs.com/events/now-auditioning/
 var/ri-840.l-L1
URL:https://rougeclubs.com/events/now-auditioning/var/ri-840.l-L1
END:VEVENT
END:VCALENDAR