BEGIN:VCALENDAR
VERSION:2.0
PRODID:-//eventon.com NONSGML v1.0//EN
CALSCALE:GREGORIAN
METHOD:PUBLISH
BEGIN:VEVENT
UID:69ed5a87091c8
DTSTAMP:20260426T002127Z
DTSTART:20240816
DTEND:20240817
LOCATION:
SUMMARY:Country Western Night
DESCRIPTION:Country fun\,  games and prizes. Sexy Cowgirl Contest. Best Men
 &#8217;s Cowboy Outfit Drink Specials: Jim\,  Jack and Cuervo. Country Styl
 e Food Specials\nhttps://rougeclubs.com/events/country-western-night/
URL:https://rougeclubs.com/events/country-western-night/
END:VEVENT
END:VCALENDAR