BEGIN:VCALENDAR
VERSION:2.0
PRODID:-//eventon.com NONSGML v1.0//EN
CALSCALE:GREGORIAN
METHOD:PUBLISH
BEGIN:VEVENT
UID:69e5efdc5ac82
DTSTAMP:20260420T092028Z
DTSTART:20240915T000000Z
DTEND:20240915T060000Z
LOCATION:
SUMMARY:UFC 306 Noche UFC
DESCRIPTION:UFC 306 Noche UFC\nhttps://rougeclubs.com/events/ufc-306-noche-
 ufc/
URL:https://rougeclubs.com/events/ufc-306-noche-ufc/
END:VEVENT
END:VCALENDAR